BEGIN:VCALENDAR
VERSION:2.0
PRODID:-//Lauriane Pujo - Photographe Lifestyle//NONSGML kigkonsult.se iCalcreator 2.41.92//
CALSCALE:GREGORIAN
METHOD:PUBLISH
UID:31353835-3639-4535-a462-663635653836
X-WR-CALNAME:iCagenda
X-WR-CALDESC:Event Management Extension for Joomla!
X-WR-RELCALID:3E26604A-50F4-4449-8B3E-E4F4932D05B5
X-WR-TIMEZONE:UTC
BEGIN:VTIMEZONE
TZID:UTC
END:VTIMEZONE
BEGIN:VEVENT
UID:33366338-3636-4733-b461-666432373262
DTSTAMP:20260420T103931Z
CATEGORIES:Zéro déchet
CLASS:PUBLIC
DESCRIPTION;ALTREP="CID:<FFFF__=0ABBE548DFE235B58f9e8a93d@coffeebean.com>":
 Superstitieuse ? Nous pas\, mais si tu l’es\, notre nouvel atelier est un 
 parfait moyen d’oublier que nous serons … vendredi 13 septembre !! ?Lors d
 e cette soirée\, tu participeras à deux ateliers qui te rendront belle et 
 .. rebelle :Cours d’auto-maquillage avec ta trousse de maquillagePar Laure
  de Bulle Nature - Institut&amp\;Fabrication d’un shampoing solidePar Jenn
 aAussi\, lors de cette soirée cocooning\, c’est Lauriane Pujo qui sera pré
 sente pour faire de jolies photos !Une galerie photos vous sera ensuite tr
 ansmise afin de pouvoir télécharger les clichés.Enfin\, Laure sera égaleme
 nt présente en tant que Guest en vente en direct pour vous présenter ses g
 ammes de maquillage et de soin du corps/visage Bio et pour la plupart Vega
 n (aussi en vente au sein de son institut)\, elle sera accompagnée de Lesl
 ie réflexologue et enseignante enYoga pour vous présenter ses talents.L’ac
 cueil se fera à 18h et le premier atelier démarrera à 18h15 au Domaine de 
 Rouffach (1 rue Raymond Poincaré à Rouffach).Les ateliers se suivront puis
  nous clôturerons autour d’un apéro toutes ensemble.La fin est prévue pour
  21h.Le tarif est de 42€ par personne et comprend la participation aux deu
 x ateliers avec toutes les fournitures pour la fabrication du shampoing so
 lide\, ainsi que des boissons et de quoi grignoter lors des ateliers et l’
 apéro. Concernant le cours d’auto-maquillage\, le but est d’utiliser ce qu
 e tu as dans ta trousse de maquillage et non de forcer à la vente donc nou
 s demandons aux participantes d’apporter leurs produits de tous les jours.
  Laure apportera bien sûr des produits à tester.La réservation est possibl
 e seulement en achetant vos places via la billetterie ci-dessous avant le 
 7 septembre 2019 et dans la limite des places disponibles.Au plaisir de te
  retrouver très vite !Anaïs &amp\; Karen
DTSTART:20190913T180000Z
DTEND:20190913T210000Z
GEO:00;0
LOCATION:Pin Domaine de Rouffach
ORGANIZER;CN=:mailto:sylvie@ideez.fr
SEQUENCE:1
SUMMARY:Made in joy
TRANSP:OPAQUE
URL:https://laurianepujophotographe.fr/agenda/1-made-in-joy
END:VEVENT
END:VCALENDAR
