BEGIN:VCALENDAR
VERSION:2.0
PRODID:-//Lauriane Pujo - Photographe Lifestyle//NONSGML kigkonsult.se iCalcreator 2.41.92//
CALSCALE:GREGORIAN
METHOD:PUBLISH
UID:31653135-3161-4439-b561-386665643561
X-WR-CALNAME:iCagenda
X-WR-CALDESC:Event Management Extension for Joomla!
X-WR-RELCALID:3E26604A-50F4-4449-8B3E-E4F4932D05B5
X-WR-TIMEZONE:UTC
BEGIN:VTIMEZONE
TZID:UTC
END:VTIMEZONE
BEGIN:VEVENT
UID:61393931-3430-4866-a463-366230633630
DTSTAMP:20260420T104115Z
CATEGORIES:Zéro déchet
CLASS:PUBLIC
DESCRIPTION;ALTREP="CID:<FFFF__=0ABBE548DFE235B58f9e8a93d@coffeebean.com>":
 Venez découvrir des solutions durables et économes pour prendre soin de bé
 bé ! Atelier idéal pour les futurs et jeunes parents.\nPour vous inscrire\
 , cliquez ici.\n21 euros par participant\nLieu : Tilvist\, 23 rue de la Mo
 selle à Mulhouse-centre
DTSTART:20200321T100000Z
DTEND:20200321T120000Z
GEO:00;0
LOCATION:Tilvist Coff'Tea Shop\, 23 rue de la Moselle\, 68100 Mulhouse
ORGANIZER:
SEQUENCE:1
SUMMARY:Atelier 'Mon bébé au naturel / zéro déchet'
TRANSP:OPAQUE
URL:https://laurianepujophotographe.fr/agenda/11-atelier-mon-bebe-au-nature
 l-zero-dechet/2020-03-21-10-00
END:VEVENT
END:VCALENDAR
