BEGIN:VCALENDAR
VERSION:2.0
PRODID:-//Lauriane Pujo - Photographe Lifestyle//NONSGML kigkonsult.se iCalcreator 2.41.92//
CALSCALE:GREGORIAN
METHOD:PUBLISH
UID:35663865-3165-4630-b434-316364366634
X-WR-CALNAME:iCagenda
X-WR-CALDESC:Event Management Extension for Joomla!
X-WR-RELCALID:3E26604A-50F4-4449-8B3E-E4F4932D05B5
X-WR-TIMEZONE:UTC
BEGIN:VTIMEZONE
TZID:UTC
END:VTIMEZONE
BEGIN:VEVENT
UID:39383966-6239-4236-b936-303537363033
DTSTAMP:20260421T161602Z
CATEGORIES:Zéro déchet
CLASS:PUBLIC
DESCRIPTION;ALTREP="CID:<FFFF__=0ABBE548DFE235B58f9e8a93d@coffeebean.com>":
 Venez tester les couches lavables pendant 1 mois. Ce prêt a pour but de vo
 us faire tester différents modèles et marques de couches lavables. Le prêt
  débute par une réunion d'information\, qui vous permettra d'apprendre à c
 hoisir\, utiliser et entretenir les couches lavables.\nCet événement est d
 édié aux habitants de Mulhouse Alsace Agglomération M2A\, il est gratuit p
 our les habitants car financé par l'agglo.\nChaque kit de couches lavables
  comprend 8 couches adaptées à l'âge et au poids de votre enfant.\nUne réu
 nion de fin de prêt viendra clôturer cette aventure le 9 mai de 18h30 à 20
 h. Ce sera un moment d'échange sur votre expérience avec les autres famill
 es ayant participé ! Vous pourrez également y poser vos dernières question
 s :)\nIl est possible de participer à la réunion d'information sans partic
 iper au prêt de couches lavables.\nInfos et inscriptions par mail à larevo
 lutiondesplantesvertes@gmail.com\n 
DTSTART:20230328T183000Z
DTEND:20230328T203000Z
GEO:00;0
LOCATION:L'aire Mômes LAEP Lutterbach
ORGANIZER;CN=:mailto:larevolutiondesplantesvertes@gmail.com
SEQUENCE:1
SUMMARY:Atelier d'information et prêt de couches lavables pour les habitant
 s de M2A
TRANSP:OPAQUE
URL:https://laurianepujophotographe.fr/agenda/15-atelier-dinformation-et-pr
 et-de-couches-lavables-pour-les-habitants-de-m2a
END:VEVENT
END:VCALENDAR
