BEGIN:VCALENDAR
VERSION:2.0
PRODID:-//Lauriane Pujo - Photographe Lifestyle//NONSGML kigkonsult.se iCalcreator 2.41.92//
CALSCALE:GREGORIAN
METHOD:PUBLISH
UID:61326635-3261-4538-b736-643230653362
X-WR-CALNAME:iCagenda
X-WR-CALDESC:Event Management Extension for Joomla!
X-WR-RELCALID:3E26604A-50F4-4449-8B3E-E4F4932D05B5
X-WR-TIMEZONE:UTC
BEGIN:VTIMEZONE
TZID:UTC
END:VTIMEZONE
BEGIN:VEVENT
UID:35323362-6165-4561-a661-656439376332
DTSTAMP:20260420T165223Z
CATEGORIES:Zéro déchet
CLASS:PUBLIC
DESCRIPTION;ALTREP="CID:<FFFF__=0ABBE548DFE235B58f9e8a93d@coffeebean.com>":
 Venez découvrir des solutions durables pour accueillir votre bébé en toute
  éco-responsabilité.\nTable ronde\, échanges etc...\nNous aborderons la li
 ste de naissance\, la valise de maternité pour maman et pour bébé\, les jo
 uets\, le mobilier etc...
DTSTART:20230404T183000Z
DTEND:20230404T203000Z
GEO:00;0
LOCATION:Les Sheds Kingersheim
ORGANIZER;CN=:mailto:contact@laurianepujophotographe.com
SEQUENCE:1
SUMMARY:Atelier 'Accueillir bébé dans un univers durable' pour les habitant
 s de M2A
TRANSP:OPAQUE
URL:https://laurianepujophotographe.fr/agenda/18-atelier-accueillir-bebe-da
 ns-un-univers-durable-pour-les-habitants-de-m2a
END:VEVENT
END:VCALENDAR
