BEGIN:VCALENDAR
VERSION:2.0
PRODID:-//Lauriane Pujo - Photographe Lifestyle//NONSGML kigkonsult.se iCalcreator 2.41.92//
CALSCALE:GREGORIAN
METHOD:PUBLISH
UID:36656536-3630-4336-b537-613034636432
X-WR-CALNAME:iCagenda
X-WR-CALDESC:Event Management Extension for Joomla!
X-WR-RELCALID:3E26604A-50F4-4449-8B3E-E4F4932D05B5
X-WR-TIMEZONE:UTC
BEGIN:VTIMEZONE
TZID:UTC
END:VTIMEZONE
BEGIN:VEVENT
UID:38633661-6439-4635-b833-333165353737
DTSTAMP:20260421T145156Z
CATEGORIES:Zéro déchet
CLASS:PUBLIC
DESCRIPTION;ALTREP="CID:<FFFF__=0ABBE548DFE235B58f9e8a93d@coffeebean.com>":
 Venez découvrir des solutions durables pour accueillir votre bébé en toute
  éco-responsabilité.\nTable ronde\, échanges etc...\nNous aborderons la li
 ste de naissance\, la valise de maternité pour maman et pour bébé\, les jo
 uets\, le mobilier etc...
DTSTART:20230420T183000Z
DTEND:20230420T203000Z
GEO:00;0
LOCATION:Salle Lutz\, Jebsheim
ORGANIZER;CN=:mailto:contact@laurianepujophotographe.com
SEQUENCE:1
SUMMARY:Atelier 'Accueillir bébé dans un univers durable' pour les habitant
 s de Colmar Agglomération
TRANSP:OPAQUE
URL:https://laurianepujophotographe.fr/agenda/19-atelier-accueillir-bebe-da
 ns-un-univers-durable-pour-les-habitants-de-m2a-2
END:VEVENT
END:VCALENDAR
