BEGIN:VCALENDAR
VERSION:2.0
PRODID:-//Lauriane Pujo - Photographe Lifestyle//NONSGML kigkonsult.se iCalcreator 2.41.92//
CALSCALE:GREGORIAN
METHOD:PUBLISH
UID:64363063-6361-4966-b436-376263616562
X-WR-CALNAME:iCagenda
X-WR-CALDESC:Event Management Extension for Joomla!
X-WR-RELCALID:3E26604A-50F4-4449-8B3E-E4F4932D05B5
X-WR-TIMEZONE:UTC
BEGIN:VTIMEZONE
TZID:UTC
END:VTIMEZONE
BEGIN:VEVENT
UID:35303338-6434-4264-b333-313364303034
DTSTAMP:20260421T150005Z
CATEGORIES:Zéro déchet
CLASS:PUBLIC
DESCRIPTION;ALTREP="CID:<FFFF__=0ABBE548DFE235B58f9e8a93d@coffeebean.com>":
 Venez tester les couches lavables pendant 3 mois. Ce prêt a pour but de vo
 us faire tester différents modèles et marques de couches lavables. Le prêt
  débute par une réunion d'information\, qui vous permettra d'apprendre à c
 hoisir\, utiliser et entretenir les couches lavables.\nCet événement est d
 édié aux habitants de M2A\, il est gratuit pour les habitants car financé 
 par l'Agglomération.\nChaque kit de couches lavables comprend 8 couches ad
 aptées à l'âge et au poids de votre enfant.\nUne réunion de fin de prêt vi
 endra clôturer cette aventure et aura lieu le 15 septembre 2025. Ce sera u
 n moment d'échange sur votre expérience avec les autres familles ayant par
 ticipé ! Vous pourrez également y poser vos dernières questions :)\nIl est
  possible de participer à la réunion d'information sans participer au prêt
  de couches lavables.\nInfos et inscriptions par mail à larevolutiondespla
 ntesvertes@gmail.com
DTSTART:20250609T183000Z
DTEND:20250609T203000Z
GEO:00;0
LOCATION:Mulhouse
ORGANIZER;CN=:mailto:larevolutiondesplantesvertes@gmail.com
SEQUENCE:1
SUMMARY:Réunion d'information et prêt de couches lavables pour les habitant
 s de M2A !
TRANSP:OPAQUE
URL:https://laurianepujophotographe.fr/agenda/22-reunion-dinformation-et-pr
 et-de-couches-lavables-pour-les-habitants-de-m2a
END:VEVENT
END:VCALENDAR
