BEGIN:VCALENDAR
VERSION:2.0
PRODID:-//Lauriane Pujo - Photographe Lifestyle//NONSGML kigkonsult.se iCalcreator 2.41.92//
CALSCALE:GREGORIAN
METHOD:PUBLISH
UID:32636466-3030-4832-a261-373165613464
X-WR-CALNAME:iCagenda
X-WR-CALDESC:Event Management Extension for Joomla!
X-WR-RELCALID:3E26604A-50F4-4449-8B3E-E4F4932D05B5
X-WR-TIMEZONE:UTC
BEGIN:VTIMEZONE
TZID:UTC
END:VTIMEZONE
BEGIN:VEVENT
UID:30313635-6238-4463-b865-383066633531
DTSTAMP:20260421T143726Z
CATEGORIES:Zéro déchet
CLASS:PUBLIC
DESCRIPTION;ALTREP="CID:<FFFF__=0ABBE548DFE235B58f9e8a93d@coffeebean.com>":
 Venez tester les couches lavables pendant 3 mois. Ce prêt a pour but de vo
 us faire tester différents modèles et marques de couches lavables. Le prêt
  débute par une réunion d'information\, qui vous permettra d'apprendre à c
 hoisir\, utiliser et entretenir les couches lavables.\nCet événement est d
 édié aux habitants de Colmar Agglomération\, il est gratuit pour les habit
 ants car financé par l'Agglomération.\nChaque kit de couches lavables comp
 rend 8 couches adaptées à l'âge et au poids de votre enfant.\nUne réunion 
 de fin de prêt viendra clôturer cette aventure et aura lieu le 28 mai 2025
 . Ce sera un moment d'échange sur votre expérience avec les autres famille
 s ayant participé ! Vous pourrez également y poser vos dernières questions
  :)\nIl est possible de participer à la réunion d'information sans partici
 per au prêt de couches lavables.\nInfos et inscriptions par mail à larevol
 utiondesplantesvertes@gmail.com
DTSTART:20250429T183000Z
DTEND:20250429T203000Z
GEO:00;0
LOCATION:
ORGANIZER:
SEQUENCE:1
SUMMARY:Réunion d'information et prêt de couches lavables pour les habitant
 s de Colmar Agglo !
TRANSP:OPAQUE
URL:https://laurianepujophotographe.fr/agenda/23-reunion-dinformation-et-pr
 et-de-couches-lavables-pour-les-habitants-de-colmar-agglo
END:VEVENT
END:VCALENDAR
