BEGIN:VCALENDAR
VERSION:2.0
PRODID:-//Lauriane Pujo - Photographe Lifestyle//NONSGML kigkonsult.se iCalcreator 2.41.92//
CALSCALE:GREGORIAN
METHOD:PUBLISH
UID:61623863-3162-4631-b731-326433613635
X-WR-CALNAME:iCagenda
X-WR-CALDESC:Event Management Extension for Joomla!
X-WR-RELCALID:3E26604A-50F4-4449-8B3E-E4F4932D05B5
X-WR-TIMEZONE:UTC
BEGIN:VTIMEZONE
TZID:UTC
END:VTIMEZONE
BEGIN:VEVENT
UID:37363762-3531-4636-a338-363234663662
DTSTAMP:20260420T104119Z
CATEGORIES:Zéro déchet
CLASS:PUBLIC
DESCRIPTION;ALTREP="CID:<FFFF__=0ABBE548DFE235B58f9e8a93d@coffeebean.com>":
 Jeune maman j'ai voulu trouver des solutions durables et économes pour mon
  bébé. Désormais je souhaite les partager avec d'autres familles.\nAtelier
  organisé dans le cadre de la Semaine Européenne de Réduction des Déchets 
 et en partenariat avec Mulhouse Alsace Agglomération.\nDe 9h30 à 11h30 : a
 telier bébé zéro déchet\, découvertes\, partages etc...\nDe 11h30 à 12h30 
 : temps individuel pour trouver les outils pratiques à mettre en place dan
 s votre quotidien en fonction de votre famille.\nTarif : gratuit\nLieu : T
 ilvist\, 23 rue de la Moselle\, Mulhouse-centre.\nInscriptions demandés pa
 r mail en cliquant ici.
DTSTART:20191123T093000Z
DTEND:20191123T123000Z
GEO:00;0
LOCATION:Tilvist\, Mulhouse
ORGANIZER;CN=:mailto:contact@laurianepujophotographe.com
SEQUENCE:1
SUMMARY:Atelier 'Mon bébé au naturel / zéro déchet'
TRANSP:OPAQUE
URL:https://laurianepujophotographe.fr/agenda/7-atelier-mon-bebe-au-naturel
 -zero-dechet/2019-11-23-09-30
END:VEVENT
END:VCALENDAR
