BEGIN:VCALENDAR
VERSION:2.0
PRODID:-//Lauriane Pujo - Photographe Lifestyle//NONSGML kigkonsult.se iCalcreator 2.41.92//
CALSCALE:GREGORIAN
METHOD:PUBLISH
UID:37303233-6566-4438-b837-306561623264
X-WR-CALNAME:iCagenda
X-WR-CALDESC:Event Management Extension for Joomla!
X-WR-RELCALID:3E26604A-50F4-4449-8B3E-E4F4932D05B5
X-WR-TIMEZONE:UTC
BEGIN:VTIMEZONE
TZID:UTC
END:VTIMEZONE
BEGIN:VEVENT
UID:38653466-3736-4539-b634-363961343261
DTSTAMP:20260420T104100Z
CATEGORIES:Photographie
CLASS:PUBLIC
DESCRIPTION;ALTREP="CID:<FFFF__=0ABBE548DFE235B58f9e8a93d@coffeebean.com>":
 \nUne formation photo dédiée aux entrepreneur.e.s afin d'apprendre à réali
 ser vos propres photos de produits ou de personnes.\nCadrage\, lumière etc
 ... Nous aborderons tous les points essentiels pour améliorer vos photos e
 t vous créer une identité visuelle en accord avec votre entreprise.\nAvec 
 votre smartphone ou votre appareil photo tout est possible pour réaliser d
 e jolies photos pour vos réseaux sociaux\, site internet etc...\nCette for
 mation s'adresse à tous types de métier\, fleuriste\, pâtissier\, boutique
  de déco\, blogueuse etc... \nVous repartirez avec les clés pour réaliser 
 les photos de vos propres produits ou modèles !\nTarif : 125 euros/personn
 es en tarif early bird jusqu'au 29 novembre 2019 puis 149 euros.\nPour rés
 erver votre place : cliquez ici\nA très vite\,\nLauriane.
DTSTART:20200123T090000Z
DTEND:20200123T170000Z
GEO:00;0
LOCATION:Mulhouse
ORGANIZER;CN=:mailto:contact@laurianepujophotographe.com
SEQUENCE:1
SUMMARY:Formation photo pour les pros
TRANSP:OPAQUE
URL:https://laurianepujophotographe.fr/agenda/9-formation-photo-pour-les-pr
 os
END:VEVENT
END:VCALENDAR
